BEGIN:VCALENDAR
PRODID:-//Calendar export
VERSION:2.0
X-WR-TIMEZONE:Etc/GMT
BEGIN:VTIMEZONE
TZID:GMT Standard Time
BEGIN:STANDARD
TZOFFSETFROM:+0000
TZOFFSETTO:+0000
END:STANDARD
END:VTIMEZONE
BEGIN:VEVENT
UID:AE1053
DTSTAMP:20260423T064900Z
SUMMARY:Insiders Guide To Networking: Practical Ideas For Finding Y
 our People - I
 ABC Minnesota
CLASS:PUBLIC
DESCRIPTION:
STATUS:CONFIRMED
PRIORITY:1
DTSTART:20260507T170000Z
DTEND:20260507T180000Z
TRANSP:OPAQUE
END:VEVENT
END:VCALENDAR
